BEGIN:VCALENDAR
VERSION:2.0
PRODID:-//eventon.com NONSGML v1.0//EN
CALSCALE:GREGORIAN
METHOD:PUBLISH
BEGIN:VEVENT
UID:69e74a0bc9af2
DTSTAMP:20260421T095731Z
DTSTART:20190425T000000Z
DTEND:20190427T000000Z
LOCATION:
SUMMARY:Vince Wine Show Budapest
DESCRIPTION:Vince Wine Show Budapest în Varkert Bazar Detalii: https://vin
 cebudapest.hu/\nhttps://viziteazaungaria.ro/events/vince-wine-show-budapest
 /
URL:https://viziteazaungaria.ro/events/vince-wine-show-budapest/
END:VEVENT
END:VCALENDAR