BEGIN:VCALENDAR
VERSION:2.0
PRODID:-//eventon.com NONSGML v1.0//EN
CALSCALE:GREGORIAN
METHOD:PUBLISH
BEGIN:VEVENT
UID:69e4d631da485
DTSTAMP:20260419T131841Z
DTSTART:20190503T000000Z
DTEND:20190505T000000Z
LOCATION:
SUMMARY:Festivalul Gusturilor de la Hajdúszoboszló
DESCRIPTION:Festivalul Gusturilor de la Hajdúszoboszló\nhttps://viziteaza
 ungaria.ro/events/festivalul-gusturilor-de-la-hajduszoboszlo/
URL:https://viziteazaungaria.ro/events/festivalul-gusturilor-de-la-hajduszoboszlo/
END:VEVENT
END:VCALENDAR