BEGIN:VCALENDAR
VERSION:2.0
PRODID:-//eventon.com NONSGML v1.0//EN
CALSCALE:GREGORIAN
METHOD:PUBLISH
BEGIN:VEVENT
UID:69e4d4fe00945
DTSTAMP:20260419T131334Z
DTSTART:20190421T000000Z
DTEND:20190428T000000Z
LOCATION:Budapesta
SUMMARY:Campionatul Mondial de Tenis de Masa ITTF 2019
DESCRIPTION:After 58 years\,  Budapest will host again the largest table te
 nnis event\,  2019 WTTC\,  the ITTF Table Tennis World Championships which 
 will attract a total of ten thousand spectators and athletes. Budapest in t
 he past has already hosted three world championships: in 1929\,  1931\,  an
 d recently in 1950. The World[..]\nhttps://viziteazaungaria.ro/events/campi
 onatul-mondial-de-tenis-de-masa-ittf-2019/
URL:https://viziteazaungaria.ro/events/campionatul-mondial-de-tenis-de-masa-ittf-2019/
END:VEVENT
END:VCALENDAR